BEGIN:VCALENDAR
VERSION:2.0
PRODID:-//Aston Martin Owners Club of Victoria - ECPv5.0.0.1//NONSGML v1.0//EN
CALSCALE:GREGORIAN
METHOD:PUBLISH
X-WR-CALNAME:Aston Martin Owners Club of Victoria
X-ORIGINAL-URL:https://astonmartin.org.au
X-WR-CALDESC:Events for Aston Martin Owners Club of Victoria
BEGIN:VTIMEZONE
TZID:Australia/Melbourne
BEGIN:STANDARD
TZOFFSETFROM:+1100
TZOFFSETTO:+1000
TZNAME:AEST
DTSTART:20200404T160000
END:STANDARD
BEGIN:DAYLIGHT
TZOFFSETFROM:+1000
TZOFFSETTO:+1100
TZNAME:AEDT
DTSTART:20201003T160000
END:DAYLIGHT
END:VTIMEZONE
BEGIN:VEVENT
DTSTART;VALUE=DATE:20200506
DTEND;VALUE=DATE:20200513
DTSTAMP:20200302T052829
CREATED:20200114T004455Z
LAST-MODIFIED:20200204T132306Z
UID:7786-1588723200-1589327999@astonmartin.org.au
SUMMARY:National 2020 Tour
DESCRIPTION:Tour Program\nDay 1 Wednesday May 6th \nHealesville to Lorne\, Dinner and Overnight at Mantra Lorne. (ETD 194km) \nDay 2 Thursday  May 7th   \nFree day in Lorne. Overnight at Mantra Lorne \nDay 3 Friday   May    8th \nLorne to Ballarat via the Otway Rainforest. Drinks\, dinner and overnight at the Mercure Hotel in Ballarat. (ETD 242km) \nDay 4 Saturday  May  9th \nA free day in Ballarat. Optional\, Sovereign Hill ‘Aura’ show and dinner. Overnight in Ballarat. \nDay 5 Sunday May 10th \nFree morning in Ballarat then Mother’s Day High Tea followed by a free evening. Overnight in Ballarat. (ETD 45km) \nDay 6 Monday May 11th \nOff to Echuca via Bendigo. Paddle Steamer cruise and farewell dinner with entertainment. Overnight in Echuca (ETD 214km) \nDay 7 Tuesday May 12th      \nAfter breakfast we leave for home. \n  \nTo Register for the Tour email national2020@astonmartin.org.au \n
URL:https://astonmartin.org.au/event/national-2020-tour/
CATEGORIES:National
END:VEVENT
END:VCALENDAR